BEGIN:VCALENDAR
VERSION:2.0
PRODID:-//hacksw/handcal//NONSGML v1.0//EN
BEGIN:VEVENT
SUMMARY:Sortie convivialite : velorail a la Sainte-Baume
UID:50bf2046-3d9d-46f7-937a-283dc40f855c
DTSTART:20260516T120000Z
DTEND:20260516T140000Z
LOCATION:Localisation   pourcieux
CATEGORIES:Festif
STATUS:
DESCRIPTION:<p>La section convivialite propose une sortie velorail a
 la Sainte-Baume, sur une ancienne voie ferree au cœur de la
 Provence.<br>
 Le parcours alterne passages en pleine nature, viaducs
 et tunnel avec assistance electrique pour rendre la balade accessible
 au plus grand nombre.<br>
 Une activite ludique et accessible, ideale
 pour partager un moment convivial ensemble.</p>
 
 <p>Lieu : depart
 depuis la gare velorail de Pourcieux (environ 1 heure en voiture
 depuis Marseille)<br>
 Point de rendez-vous : velorail de la
 Sainte-Baume a Pourcieux<br>
 Horaire : rendez-vous sur place a 13h30
 (possibilite de pique-niquer sur place a proximite)<br>
 Duree de
 l’activite : environ 2 heures<br>
 Organisation des velorails : 2
 pedaleurs et 3 passagers par velorail<br>
 Tarif : 9 € par personne
 (45 € par velorail a partager entre les
 participants)</p>
 
 <p>Paiement sur place par carte bancaire ou
 Cheques Vacances ANCV papier<br>
 Le paiement en especes n’est
 accepte qu’en dernier ressort avec l’appoint<br>
 Les cheques
 bancaires ne sont pas acceptes</p>
 
 <p>Privilegier le covoiturage sur
 le groupe whatsapp : <a
 href="https://chat.whatsapp.com/BSxQth1Gt1nDGlv3hzrnKu"
 target="_blank" rel="noreferrer
 noopener">https://chat.whatsapp.com/BSxQth1Gt1nDGlv3hzrnKu</a></p>
 
 <p>Important
 : la reservation se fait sur devis signe selon le nombre exact de
 participants, merci de vous inscrire rapidement</p>
 
 <p><strong><span
 style="color:#e74c3c;">La reservation sera effectuee au plus tard le
 <u>samedi 25 avril</u> en fonction du nombre definitif de
 participants inscrits.</span></strong></p>
 
 <p>Site non
 fumeur<br>
 Animaux non acceptes</p>
 
 <p>Prevoir de l’eau en
 quantite suffisante, il peut faire chaud sur la voie ferree<br>
 Tenue
 adaptee a la saison recommandee<br>
 Casquette
 conseillee<br>
 Chaussures fermees obligatoires pour marcher sur le
 ballast<br>
 Tongs non autorisees<br>
 Pantalons larges aux chevilles
 non autorises</p>
 
 <p>Plus d'info : <a
 href="https://veloraildefrance.com/83-velorail-de-la-sainte-baume-minisite/#acces"
 target="_blank" rel="noreferrer
 noopener">https://veloraildefrance.com/83-velorail-de-la-sainte-baume-minisite/#acces</a></p>
URL;VALUE=URI:https://www.frontrunnersmarseille.org/evenements/2026/05/16/sortie-convivialite-velorail-a-la-sainte-baume-2443723
END:VEVENT
END:VCALENDAR
