BEGIN:VCALENDAR
VERSION:2.0
PRODID:-//hacksw/handcal//NONSGML v1.0//EN
BEGIN:VEVENT
SUMMARY:ANNULE - Conviv & Rando - Visite des Jardins du Mucem Fort Saint-Jean - Sortie 2
UID:44c354c7-4df8-4726-affa-89c2628336cc
DTSTART:20260425T073000Z
DTEND:20260425T110000Z
LOCATION:Localisation   
CATEGORIES:Manifestation
STATUS:
DESCRIPTION:<p><span style="color:#e74c3c;"><strong>LA SORTIE EST
 ANNULEE</strong></span></p>
 
 <p><span
 style="color:#3498db;"><strong>Droit de reservation pour visite
 autonome du groupe offert par FRM :) !</strong></span></p>
 
 <p>Dans
 le cadre de nos activites conviviales, Lionel, un de nos adherents de
 la section Rando nous propose une visite guidee du jardin du Mucem /
 fort Saint Jean le Samedi 25 Avril dans la matinee.</p>
 
 <p><br />
 A
 l’entree du port de Marseille, le Jardin des Migrations s’etend
 sur plus de 10 000 m² et se decouvre au rythme des differents
 niveaux, de ses differentes ouvertures sur le grand
 paysage.</p>
 
 <p><br />
 Au-dela des perspectives c'est l'occasion de
 re-decouvrir une palette vegetale propre au jardin sec (plantes
 xerophytes) et de partager des secrets de jardinage.<br />
 A l'issue
 de la visite on peut pique-niquer tous ensemble dans le jardin et
 aller ensuite boire un cafe dans les alentours.</p>
 
 <p><br />
 On se
 retrouve a partir de 9h30, pour un demarrage de la visite a 10h pile
 sur l’esplanade du J4 a l’entree du Mucem pour
 s’enregistrer.</p>
 
 <p><br />
 Les sacs sont inspectes a l'entree,
 et les objets tranchants ne sont pas autorises (evitez les couteaux
 en fer pour le pique-nique ; couteaux en bois a
 privilegier)</p>
 
 <p>A lire avant de visiter : <a
 href="https://rim.univ-cotedazur.fr/items/show/1242#?c=0&m=0&s=0&cv=0&xywh=-24%2C-1%2C219%2C290"
 target="_blank" rel="noreferrer
 noopener">https://rim.univ-cotedazur.fr/items/show/1242#?c=0&m=0&s=0&cv=0&xywh=-24%2C-1%2C219%2C290</a></p>
URL;VALUE=URI:https://www.frontrunnersmarseille.org/evenements/2026/04/25/annule-conviv-amp-rando-visite-des-jardins-du-mucem-fort-saint-jean-sortie-2-2419929
END:VEVENT
END:VCALENDAR
